BEGIN:VCALENDAR
VERSION:2.0
PRODID:-//IBEW 113 - ECPv4.9.9//NONSGML v1.0//EN
CALSCALE:GREGORIAN
METHOD:PUBLISH
X-WR-CALNAME:IBEW 113
X-ORIGINAL-URL:https://ibew113.com
X-WR-CALDESC:Events for IBEW 113
BEGIN:VTIMEZONE
TZID:America/Denver
BEGIN:DAYLIGHT
TZOFFSETFROM:-0700
TZOFFSETTO:-0600
TZNAME:MDT
DTSTART:20240310T090000
END:DAYLIGHT
BEGIN:STANDARD
TZOFFSETFROM:-0600
TZOFFSETTO:-0700
TZNAME:MST
DTSTART:20241103T080000
END:STANDARD
END:VTIMEZONE
BEGIN:VEVENT
DTSTART;TZID=America/Denver:20241121T170000
DTEND;TZID=America/Denver:20241121T183000
DTSTAMP:20260423T023714
CREATED:20170412T015012Z
LAST-MODIFIED:20170412T015012Z
UID:6192-1732208400-1732213800@ibew113.com
SUMMARY:Air Force Academy Unit Meeting
DESCRIPTION:
URL:https://ibew113.com/event/air-force-academy-unit-meeting-2/2024-11-21/
LOCATION:IBEW Local 113\, 2150 Naegele Road\, Colorado Springs\, CO\, 80904\, United States
CATEGORIES:IBEW113
END:VEVENT
END:VCALENDAR