BEGIN:VCALENDAR
VERSION:2.0
PRODID:-//IBEW 113 - ECPv4.9.9//NONSGML v1.0//EN
CALSCALE:GREGORIAN
METHOD:PUBLISH
X-WR-CALNAME:IBEW 113
X-ORIGINAL-URL:https://ibew113.com
X-WR-CALDESC:Events for IBEW 113
BEGIN:VTIMEZONE
TZID:America/Denver
BEGIN:DAYLIGHT
TZOFFSETFROM:-0700
TZOFFSETTO:-0600
TZNAME:MDT
DTSTART:20190310T090000
END:DAYLIGHT
BEGIN:STANDARD
TZOFFSETFROM:-0600
TZOFFSETTO:-0700
TZNAME:MST
DTSTART:20191103T080000
END:STANDARD
END:VTIMEZONE
BEGIN:VEVENT
DTSTART;TZID=America/Denver:20190621T170000
DTEND;TZID=America/Denver:20190621T200000
DTSTAMP:20260425T011746
CREATED:20190516T153516Z
LAST-MODIFIED:20190516T153746Z
UID:4885-1561136400-1561147200@ibew113.com
SUMMARY:Block Party
DESCRIPTION:Connect with neighbors on June 21st at CONO’s First Day of Summer Block Party \n5-8 p.m.\nJune 21\, 2019\n1506 N Hancock Ave \nBeer Garden\, Food Trucks\, Live Music by Spur\, Kid’s Games\, Face Painting\, Silent Auction and Cornhole Tournament \nLocal 113 is a sponsor of this event. \nColorado Springs CONO \n
URL:https://ibew113.com/event/block-party/
LOCATION:CONO Block Party\, 1506 N Hancock Ave\, Colorado Springs\, CO
CATEGORIES:IBEW113
END:VEVENT
END:VCALENDAR