BEGIN:VCALENDAR
VERSION:2.0
PRODID:-//IBEW 113 - ECPv4.9.9//NONSGML v1.0//EN
CALSCALE:GREGORIAN
METHOD:PUBLISH
X-WR-CALNAME:IBEW 113
X-ORIGINAL-URL:https://ibew113.com
X-WR-CALDESC:Events for IBEW 113
BEGIN:VTIMEZONE
TZID:America/Denver
BEGIN:DAYLIGHT
TZOFFSETFROM:-0700
TZOFFSETTO:-0600
TZNAME:MDT
DTSTART:20170312T090000
END:DAYLIGHT
BEGIN:STANDARD
TZOFFSETFROM:-0600
TZOFFSETTO:-0700
TZNAME:MST
DTSTART:20171105T080000
END:STANDARD
END:VTIMEZONE
BEGIN:VEVENT
DTSTART;TZID=America/Denver:20171116T170000
DTEND;TZID=America/Denver:20171116T200000
DTSTAMP:20260425T001243
CREATED:20171113T232301Z
LAST-MODIFIED:20171113T232303Z
UID:3924-1510851600-1510862400@ibew113.com
SUMMARY:Colorado Springs Electrical JATC Open House
DESCRIPTION:You are invited to join us at the CSEJATC Open house. Celebrate Apprentice Appreciation Week and visit with us at our training facility. Contractors will be on-site to hire qualified applicants so invite un-represented electrical workers. Door prize raffle and refreshments provided.\n414 W. Pikes Peak \n
URL:https://ibew113.com/event/colorado-springs-electrical-jatc-open-house/
LOCATION:CSEJATC\, 414 W. Pikes Peak Ave.\, Colorado Springs\, 80905\, United States
CATEGORIES:IBEW113
END:VEVENT
END:VCALENDAR