BEGIN:VCALENDAR
VERSION:2.0
PRODID:-//IBEW 113 - ECPv4.9.9//NONSGML v1.0//EN
CALSCALE:GREGORIAN
METHOD:PUBLISH
X-WR-CALNAME:IBEW 113
X-ORIGINAL-URL:https://ibew113.com
X-WR-CALDESC:Events for IBEW 113
BEGIN:VTIMEZONE
TZID:America/Denver
BEGIN:DAYLIGHT
TZOFFSETFROM:-0700
TZOFFSETTO:-0600
TZNAME:MDT
DTSTART:20190310T090000
END:DAYLIGHT
BEGIN:STANDARD
TZOFFSETFROM:-0600
TZOFFSETTO:-0700
TZNAME:MST
DTSTART:20191103T080000
END:STANDARD
END:VTIMEZONE
BEGIN:VEVENT
DTSTART;TZID=America/Denver:20190617T160000
DTEND;TZID=America/Denver:20190617T200000
DTSTAMP:20260425T013725
CREATED:20190516T144529Z
LAST-MODIFIED:20190516T175317Z
UID:4883-1560787200-1560801600@ibew113.com
SUMMARY:EWMC Leadership Training
DESCRIPTION:Being a leader isn’t always what we think it is.  Join the EWMC for a leadership development in building a foundation and developing leadership styles \nLoading... \n
URL:https://ibew113.com/event/ewmc-leadership-training/
LOCATION:IBEW Local 113\, 2150 Naegele Road\, Colorado Springs\, CO\, 80904\, United States
CATEGORIES:IBEW113,Organizing
END:VEVENT
END:VCALENDAR