BEGIN:VCALENDAR
VERSION:2.0
PRODID:-//IBEW 113 - ECPv4.9.9//NONSGML v1.0//EN
CALSCALE:GREGORIAN
METHOD:PUBLISH
X-WR-CALNAME:IBEW 113
X-ORIGINAL-URL:https://ibew113.com
X-WR-CALDESC:Events for IBEW 113
BEGIN:VTIMEZONE
TZID:America/Denver
BEGIN:DAYLIGHT
TZOFFSETFROM:-0700
TZOFFSETTO:-0600
TZNAME:MDT
DTSTART:20170312T090000
END:DAYLIGHT
BEGIN:STANDARD
TZOFFSETFROM:-0600
TZOFFSETTO:-0700
TZNAME:MST
DTSTART:20171105T080000
END:STANDARD
END:VTIMEZONE
BEGIN:VEVENT
DTSTART;TZID=America/Denver:20170916T090000
DTEND;TZID=America/Denver:20170916T130000
DTSTAMP:20260424T222809
CREATED:20170823T185128Z
LAST-MODIFIED:20170823T190746Z
UID:3838-1505552400-1505566800@ibew113.com
SUMMARY:EWMC/IBEW Neighborhood Clean up
DESCRIPTION:Stratmoor Valley Park 9am-1pm with a BBQ following. \n
URL:https://ibew113.com/event/ewmcibew-neighborhood-clean-up/
CATEGORIES:IBEW113
END:VEVENT
END:VCALENDAR