BEGIN:VCALENDAR
VERSION:2.0
PRODID:-//IBEW 113 - ECPv4.9.9//NONSGML v1.0//EN
CALSCALE:GREGORIAN
METHOD:PUBLISH
X-WR-CALNAME:IBEW 113
X-ORIGINAL-URL:https://ibew113.com
X-WR-CALDESC:Events for IBEW 113
BEGIN:VTIMEZONE
TZID:America/Denver
BEGIN:DAYLIGHT
TZOFFSETFROM:-0700
TZOFFSETTO:-0600
TZNAME:MDT
DTSTART:20170312T090000
END:DAYLIGHT
BEGIN:STANDARD
TZOFFSETFROM:-0600
TZOFFSETTO:-0700
TZNAME:MST
DTSTART:20171105T080000
END:STANDARD
END:VTIMEZONE
BEGIN:VEVENT
DTSTART;TZID=America/Denver:20171201T170000
DTEND;TZID=America/Denver:20171201T200000
DTSTAMP:20260425T015719
CREATED:20171127T234858Z
LAST-MODIFIED:20171127T235114Z
UID:3966-1512147600-1512158400@ibew113.com
SUMMARY:Manitou Christmas Parade
DESCRIPTION:Come and join us in Manitou for the 2nd annual Christmas Parade.  Staging will begin at 5PM behind the penny arcade.  We are Number 36 which is 2nd to last in the Parade.  If you are early you might get a shirt to walk in. \n
URL:https://ibew113.com/event/manitou-christmas-parade/
CATEGORIES:IBEW113
END:VEVENT
END:VCALENDAR